BEGIN:VCALENDAR
VERSION:2.0
PRODID:-//St Thomas College (Autonomous) - ECPv6.1.3//NONSGML v1.0//EN
CALSCALE:GREGORIAN
METHOD:PUBLISH
X-WR-CALNAME:St Thomas College (Autonomous)
X-ORIGINAL-URL:https://stthomas.ac.in
X-WR-CALDESC:Events for St Thomas College (Autonomous)
REFRESH-INTERVAL;VALUE=DURATION:PT1H
X-Robots-Tag:noindex
X-PUBLISHED-TTL:PT1H
BEGIN:VTIMEZONE
TZID:Asia/Kolkata
BEGIN:STANDARD
TZOFFSETFROM:+0530
TZOFFSETTO:+0530
TZNAME:IST
DTSTART:20250101T000000
END:STANDARD
END:VTIMEZONE
BEGIN:VEVENT
DTSTART;VALUE=DATE:20250130
DTEND;VALUE=DATE:20250201
DTSTAMP:20260426T070917
CREATED:20250125T075059Z
LAST-MODIFIED:20250125T080205Z
UID:36554-1738195200-1738367999@stthomas.ac.in
SUMMARY:Srishti 2.5 - Techno-Cultural Fest
DESCRIPTION:The Department of Computer Science is excited to announce SRISHTI 2.5\, our highly anticipated techno-cultural fest and a cherished tradition since its inception. This vibrant event aims to unite students from diverse backgrounds\, offering a dynamic platform to showcase their talents\, skills\, and creativity. SRISHTI 2.5 will feature an exciting lineup of competitions\, including coding challenges\, quizzes\, project presentations\, debugging contests\, photography competitions\, treasure hunts\, mind games\, and cultural performances like dance. Additionally\, a specialized hands-on workshop on Geospatial Technology will provide participants with a unique opportunity to delve into this innovative field. \nView FullscreenSkip to PDF content
URL:https://stthomas.ac.in/event/srishti-2-5-techno-cultural-fest/
ATTACH;FMTTYPE=image/jpeg:https://stthomas.ac.in/wp-content/uploads/2025/01/srishti.jpg
END:VEVENT
END:VCALENDAR