BEGIN:VCALENDAR
VERSION:2.0
PRODID:-//St Thomas College (Autonomous) - ECPv6.1.3//NONSGML v1.0//EN
CALSCALE:GREGORIAN
METHOD:PUBLISH
X-ORIGINAL-URL:https://stthomas.ac.in
X-WR-CALDESC:Events for St Thomas College (Autonomous)
REFRESH-INTERVAL;VALUE=DURATION:PT1H
X-Robots-Tag:noindex
X-PUBLISHED-TTL:PT1H
BEGIN:VTIMEZONE
TZID:Asia/Kolkata
BEGIN:STANDARD
TZOFFSETFROM:+0530
TZOFFSETTO:+0530
TZNAME:IST
DTSTART:20230101T000000
END:STANDARD
END:VTIMEZONE
BEGIN:VEVENT
DTSTART;TZID=Asia/Kolkata:20230630T080000
DTEND;TZID=Asia/Kolkata:20230728T170000
DTSTAMP:20260423T170734
CREATED:20230623T054203Z
LAST-MODIFIED:20230729T124520Z
UID:31639-1688112000-1690563600@stthomas.ac.in
SUMMARY:National Documentary Short Film Festival
DESCRIPTION:
URL:https://stthomas.ac.in/event/national-documentary-short-film-festival/
ATTACH;FMTTYPE=image/jpeg:https://stthomas.ac.in/wp-content/uploads/2023/06/WhatsApp-Image-2023-06-19-at-10.38.20-PM.jpeg
END:VEVENT
BEGIN:VEVENT
DTSTART;TZID=Asia/Kolkata:20230701T080000
DTEND;TZID=Asia/Kolkata:20230701T170000
DTSTAMP:20260423T170734
CREATED:20230630T162832Z
LAST-MODIFIED:20230630T162832Z
UID:31691-1688198400-1688230800@stthomas.ac.in
SUMMARY:Founder's Day
DESCRIPTION:
URL:https://stthomas.ac.in/event/founders-day/
ATTACH;FMTTYPE=image/jpeg:https://stthomas.ac.in/wp-content/uploads/2023/06/found.jpg
END:VEVENT
BEGIN:VEVENT
DTSTART;TZID=Asia/Kolkata:20230701T090000
DTEND;TZID=Asia/Kolkata:20230701T113000
DTSTAMP:20260423T170734
CREATED:20230623T053933Z
LAST-MODIFIED:20230623T062512Z
UID:31637-1688202000-1688211000@stthomas.ac.in
SUMMARY:Orientation Programme for UG Students
DESCRIPTION:Dear Staff & Students\, \nFirst Year UG Students will have their Orientation Programme\non 01/07/2023 Saturday\nat 09. 00 am\nat Msgr. John Palocaren Square in the College. \nThe First Year UG students along with one of the parents/guardians should attend this programme without fail. \nClasses for First Year UG will be commenced on 04/07/23. \nHearty Welcome to our New Comers🙏 \n– Principal\, STC TCR
URL:https://stthomas.ac.in/event/orientation-programme-for-ug-students/
ATTACH;FMTTYPE=image/jpeg:https://stthomas.ac.in/wp-content/uploads/2023/06/orientation2.jpg
END:VEVENT
BEGIN:VEVENT
DTSTART;TZID=Asia/Kolkata:20230711T080000
DTEND;TZID=Asia/Kolkata:20230711T170000
DTSTAMP:20260423T170734
CREATED:20230710T090521Z
LAST-MODIFIED:20230711T024954Z
UID:31774-1689062400-1689094800@stthomas.ac.in
SUMMARY:World Population Day 2023
DESCRIPTION:The Department of Statistics\, St.Thomas College (Autonomous)\, Thrissur\, is conducting an Intercollegiate Digital poster-making competition in the context of World Population Day. The posters can be uploaded in the space provided here before July 14\, 2023\, 5 PM through the link https://forms.gle/SxF9qcqcU1dhY4i96. This competition is specifically intended for Undergraduate and Postgraduate students of any stream. \nThe theme for the poster: “Sustainable Population Growth: Ensuring a Balanced Future”
URL:https://stthomas.ac.in/event/world-population-day-2023/
ATTACH;FMTTYPE=image/jpeg:https://stthomas.ac.in/wp-content/uploads/2023/07/WhatsApp-Image-2023-07-11-at-8.16.47-AM.jpeg
END:VEVENT
BEGIN:VEVENT
DTSTART;TZID=Asia/Kolkata:20230719T090000
DTEND;TZID=Asia/Kolkata:20230719T150000
DTSTAMP:20260423T170734
CREATED:20230719T032907Z
LAST-MODIFIED:20230719T040635Z
UID:31804-1689757200-1689778800@stthomas.ac.in
SUMMARY:Orientation for PG Students
DESCRIPTION:
URL:https://stthomas.ac.in/event/orientation-for-pg-students/
ATTACH;FMTTYPE=image/jpeg:https://stthomas.ac.in/wp-content/uploads/2023/07/Orientation-PG-2023-2-scaled.jpg
END:VEVENT
BEGIN:VEVENT
DTSTART;TZID=Asia/Kolkata:20230727T080000
DTEND;TZID=Asia/Kolkata:20230727T123000
DTSTAMP:20260423T170734
CREATED:20230723T134606Z
LAST-MODIFIED:20230726T114857Z
UID:31847-1690444800-1690461000@stthomas.ac.in
SUMMARY:Convocation Ceremony 2023
DESCRIPTION:invitatio (1)\nDear Staff & Students\, \nConvocation Ceremony: Laurea -2023 will be available on the following link: \nhttps://www.youtube.com/live/wS-8I7EKSvc?feature=share \nOnly the Recipients and one Accompanying Parent/Guardian is supposed to participate in it physically. If the Parent/Guardian prefers to watch it online\, they are free to do it. \nAll the existing students are supposed to watch this event online. \n– Dr Paulson Mathew\, CE\n– Dr Martin K A\, Principal
URL:https://stthomas.ac.in/event/convocation-ceremony-2023/
ATTACH;FMTTYPE=image/jpeg:https://stthomas.ac.in/wp-content/uploads/2023/07/conv-2.jpg
END:VEVENT
BEGIN:VEVENT
DTSTART;TZID=Asia/Kolkata:20230731T100000
DTEND;TZID=Asia/Kolkata:20230731T120000
DTSTAMP:20260423T170734
CREATED:20230729T124440Z
LAST-MODIFIED:20230729T125222Z
UID:31891-1690797600-1690804800@stthomas.ac.in
SUMMARY:Hindi Film Show
DESCRIPTION:
URL:https://stthomas.ac.in/event/hindi-film-show/
ATTACH;FMTTYPE=image/jpeg:https://stthomas.ac.in/wp-content/uploads/2023/07/hi-2.jpg
END:VEVENT
BEGIN:VEVENT
DTSTART;TZID=Asia/Kolkata:20230731T133000
DTEND;TZID=Asia/Kolkata:20230731T153000
DTSTAMP:20260423T170734
CREATED:20230729T112303Z
LAST-MODIFIED:20230729T112303Z
UID:31882-1690810200-1690817400@stthomas.ac.in
SUMMARY:Workshop on Crafting Curriculum for the Four-Year Undergraduate Programmes
DESCRIPTION:Dear Teachers\, \nSt.Thomas College (Autonomous)\, Thrissur\, Internal Quality Assurance Cell is\norganizing a Workshop on Crafting Curriculum for the Four-Year Undergraduate Programmes for the teaching faculty. All are invited to attend the same on 31st July 2023\, @1:45pm in Kaviprathiba Hall of the college.\nRev.Dr.Martin K A. (Principal).\nDr.Divya George. (IQAC Coordinator)\nDr.Jency Thomas. (Programme Coordinator)
URL:https://stthomas.ac.in/event/workshop-on-crafting-curriculum-for-the-four-year-undergraduate-programmes/
ATTACH;FMTTYPE=image/jpeg:https://stthomas.ac.in/wp-content/uploads/2023/07/WhatsApp-Image-2023-07-29-at-1.33.45-PM.jpeg
END:VEVENT
BEGIN:VEVENT
DTSTART;TZID=Asia/Kolkata:20230731T133000
DTEND;TZID=Asia/Kolkata:20230731T170000
DTSTAMP:20260423T170734
CREATED:20230729T112121Z
LAST-MODIFIED:20230729T113919Z
UID:31879-1690810200-1690822800@stthomas.ac.in
SUMMARY:Workshop on Role of Students in Palliative Care at their home
DESCRIPTION:
URL:https://stthomas.ac.in/event/workshop-on-role-of-students-in-palliative-care-at-their-home/
ATTACH;FMTTYPE=image/jpeg:https://stthomas.ac.in/wp-content/uploads/2023/07/bot-work.jpg
END:VEVENT
END:VCALENDAR