BEGIN:VCALENDAR
VERSION:2.0
PRODID:-//St Thomas College (Autonomous) - ECPv6.1.3//NONSGML v1.0//EN
CALSCALE:GREGORIAN
METHOD:PUBLISH
X-WR-CALNAME:St Thomas College (Autonomous)
X-ORIGINAL-URL:https://stthomas.ac.in
X-WR-CALDESC:Events for St Thomas College (Autonomous)
REFRESH-INTERVAL;VALUE=DURATION:PT1H
X-Robots-Tag:noindex
X-PUBLISHED-TTL:PT1H
BEGIN:VTIMEZONE
TZID:UTC
BEGIN:STANDARD
TZOFFSETFROM:+0000
TZOFFSETTO:+0000
TZNAME:UTC
DTSTART:20220101T000000
END:STANDARD
END:VTIMEZONE
BEGIN:VEVENT
DTSTART;TZID=UTC:20220920T080000
DTEND;TZID=UTC:20221101T220000
DTSTAMP:20260422T152536
CREATED:20221013T061909Z
LAST-MODIFIED:20221101T122823Z
UID:29329-1663660800-1667340000@stthomas.ac.in
SUMMARY:RESEARCH AND PUBLICATION ETHICS COURSE
DESCRIPTION:St Thomas College (Autonomous)\, Thrissur\, is offering RPE online\, to all research scholars. \nEnrolment to course: 13.09.2022. \nCommencement of course: 22.09.2022. \nPhysical classes at St Thomas College (Tentative & optional): 24.10.2022 and 25.10.2022. \nTentative completion of course: 26.10.2022. \nTentative examination date: 07.11.2022. \nFor More Details visit: https://stthomas.ac.in/rpe2022/ \nDr Martin K A\, Principal \nDr V M Chacko\, Dean of Research \nMr.Sanjo Jose: Coordinator & Librarian
URL:https://stthomas.ac.in/event/research-and-publication-ethics-course/
ATTACH;FMTTYPE=image/jpeg:https://stthomas.ac.in/wp-content/uploads/2022/10/WhatsApp-Image-2022-09-14-at-12.34.06-PM.jpeg
END:VEVENT
BEGIN:VEVENT
DTSTART;TZID=UTC:20221101T190000
DTEND;TZID=UTC:20221101T220000
DTSTAMP:20260422T152536
CREATED:20221013T055452Z
LAST-MODIFIED:20221101T112802Z
UID:29316-1667329200-1667340000@stthomas.ac.in
SUMMARY:Global OSA Meet 1st November 2022
DESCRIPTION:https://stthomas.ac.in/wp-content/uploads/2022/10/WhatsApp-Video-2022-10-13-at-11.14.17-AM.mp4\nBROCHURE
URL:https://stthomas.ac.in/event/global-osa-meet-1st-november-2022/
ATTACH;FMTTYPE=image/jpeg:https://stthomas.ac.in/wp-content/uploads/2022/10/alumni.jpg
END:VEVENT
END:VCALENDAR