BEGIN:VCALENDAR
VERSION:2.0
PRODID:-//St Thomas College (Autonomous) - ECPv6.1.3//NONSGML v1.0//EN
CALSCALE:GREGORIAN
METHOD:PUBLISH
X-WR-CALNAME:St Thomas College (Autonomous)
X-ORIGINAL-URL:https://stthomas.ac.in
X-WR-CALDESC:Events for St Thomas College (Autonomous)
REFRESH-INTERVAL;VALUE=DURATION:PT1H
X-Robots-Tag:noindex
X-PUBLISHED-TTL:PT1H
BEGIN:VTIMEZONE
TZID:UTC
BEGIN:STANDARD
TZOFFSETFROM:+0000
TZOFFSETTO:+0000
TZNAME:UTC
DTSTART:20220101T000000
END:STANDARD
END:VTIMEZONE
BEGIN:VEVENT
DTSTART;TZID=UTC:20220228T080000
DTEND;TZID=UTC:20220304T170000
DTSTAMP:20260420T043134
CREATED:20220225T154017Z
LAST-MODIFIED:20220227T104936Z
UID:25259-1646035200-1646413200@stthomas.ac.in
SUMMARY:FINE ARTS FESTIVAL - MIZHIV 2022
DESCRIPTION:General guidelines: \n📍One team captain and one team manager should be chosen by each department. \n📍Every participant should register through https://ams.stthomas.ac.in/arts_application/\nBefore 8.00 PM \, 27 February 2022 \n📍Before 11:30 a.m. on Monday\, submit a list of applicants to the fine arts office\, along with the department seal\, and signatures of department captain and team manager. \n📍Names and admission numbers should be mentioned in the list of applicants. \n📍There is no limit for participation in off stage events for each departments . \n📍A person can compete in up to four on-stage (single) activities. \n📍Only two teams from each department are allowed to compete in the debate competition (one team each for malayalam and English debate). \n📍Individual participation in group events is unrestricted. \n📍Any complaints regarding events should be informed through respective team manager.\nWith regards\nFine Arts Cell\, St Thomas college
URL:https://stthomas.ac.in/event/fine-arts-festival-mizhiv-2022/
ATTACH;FMTTYPE=image/jpeg:https://stthomas.ac.in/wp-content/uploads/2022/02/mizhiv-2022.jpeg
END:VEVENT
BEGIN:VEVENT
DTSTART;TZID=UTC:20220305T100000
DTEND;TZID=UTC:20220305T170000
DTSTAMP:20260420T043134
CREATED:20220221T152923Z
LAST-MODIFIED:20220221T153636Z
UID:25080-1646474400-1646499600@stthomas.ac.in
SUMMARY:Centenary Memorial National English Elocution Competition
DESCRIPTION:
URL:https://stthomas.ac.in/event/centenary-memorial-national-english-elocution-competition/
ATTACH;FMTTYPE=image/jpeg:https://stthomas.ac.in/wp-content/uploads/2022/02/IMG_20220221_121850.jpg
END:VEVENT
BEGIN:VEVENT
DTSTART;TZID=UTC:20220309T080000
DTEND;TZID=UTC:20220309T170000
DTSTAMP:20260420T043134
CREATED:20220308T115923Z
LAST-MODIFIED:20220308T120216Z
UID:25453-1646812800-1646845200@stthomas.ac.in
SUMMARY:NATIONAL SEMINAR ON SPECIES THE PASSION 7\,  9 March 2022 Time: 9.30 am Venue: Menachery Hall
DESCRIPTION:Brochure Species the Passion 2022
URL:https://stthomas.ac.in/event/national-seminar-on-species-the-passion-7-9-march-2022-time-9-30-am-venue-menachery-hall/
ATTACH;FMTTYPE=image/jpeg:https://stthomas.ac.in/wp-content/uploads/2022/03/s1.jpg
END:VEVENT
BEGIN:VEVENT
DTSTART;TZID=UTC:20220309T113000
DTEND;TZID=UTC:20220309T170000
DTSTAMP:20260420T043134
CREATED:20220308T142831Z
LAST-MODIFIED:20220308T142831Z
UID:25468-1646825400-1646845200@stthomas.ac.in
SUMMARY:Lecture Series: Hybrid Materials
DESCRIPTION:
URL:https://stthomas.ac.in/event/lecture-series-hybrid-materials/
ATTACH;FMTTYPE=image/jpeg:https://stthomas.ac.in/wp-content/uploads/2022/03/WhatsApp-Image-2022-03-08-at-5.54.25-AM.jpeg
END:VEVENT
BEGIN:VEVENT
DTSTART;TZID=UTC:20220317T113000
DTEND;TZID=UTC:20220317T133000
DTSTAMP:20260420T043134
CREATED:20220316T064133Z
LAST-MODIFIED:20220316T064133Z
UID:25577-1647516600-1647523800@stthomas.ac.in
SUMMARY:Seminar: Antique Club
DESCRIPTION:
URL:https://stthomas.ac.in/event/seminar-antique-club/
ATTACH;FMTTYPE=image/jpeg:https://stthomas.ac.in/wp-content/uploads/2022/03/IMG-20220316-WA0009.jpg
END:VEVENT
BEGIN:VEVENT
DTSTART;TZID=UTC:20220324T080000
DTEND;TZID=UTC:20220325T170000
DTSTAMP:20260420T043134
CREATED:20220322T040718Z
LAST-MODIFIED:20220322T040742Z
UID:25608-1648108800-1648227600@stthomas.ac.in
SUMMARY:Workshop on “Functional Materials”  Date : 24th & 25th March 2022 Time : 9.30 AM
DESCRIPTION:Dear All\,\nDepartment of Physics\, St.Thomas College (Autonomous)\, Thrissur is organizing a WORKSHOP ON “ *Functional Materials ” \nDate : 24th & 25th March 2022\nTime : 9.30 AM \nKindly register through the link \nhttps://forms.gle/2tctWPgb7Pmjad7C6 \nWith Regards\,\nDepartment of Physics\,\nSt.Thomas College (Autonomous)\, Thrissur
URL:https://stthomas.ac.in/event/workshop-on-functional-materials-date-24th-25th-march-2022-time-9-30-am/
ATTACH;FMTTYPE=image/jpeg:https://stthomas.ac.in/wp-content/uploads/2022/03/WhatsApp-Image-2022-03-21-at-5.44.47-AM.jpeg
END:VEVENT
BEGIN:VEVENT
DTSTART;TZID=UTC:20220326T080000
DTEND;TZID=UTC:20220326T170000
DTSTAMP:20260420T043134
CREATED:20220325T094433Z
LAST-MODIFIED:20220325T094704Z
UID:25636-1648281600-1648314000@stthomas.ac.in
SUMMARY:International Forest Day
DESCRIPTION:Dear All\,\nBhoomithrasena Club of St. Thomas College (Autonomous)\, Thrissur celebrating the International Forest Day on 26.03.2022 at 03.00-04.30 PM through Google meet: https://meet.google.com/oey-ktns-ked\nMs. Sreeshma P.S.\, Research Scholar\, Department of Botany will talk on “Forests and Biodiversity – Too precious to loose”. Kindly register for the webinar: https://forms.gle/KqMNHqCeMKPy6YXp8\nAll are invited.\nRev. Dr. Martin K.A. (Principal)\, Dr. Vimala Jose (HOD)\, Dr. Joby Paul (FIC).
URL:https://stthomas.ac.in/event/international-forest-day/
ATTACH;FMTTYPE=image/jpeg:https://stthomas.ac.in/wp-content/uploads/2022/03/WhatsApp-Image-2022-03-25-at-2.20.38-AM.jpeg
END:VEVENT
BEGIN:VEVENT
DTSTART;TZID=UTC:20220329T100000
DTEND;TZID=UTC:20220329T113000
DTSTAMP:20260420T043134
CREATED:20220328T184038Z
LAST-MODIFIED:20220328T184038Z
UID:25652-1648548000-1648553400@stthomas.ac.in
SUMMARY:Department of Physics: Webinar
DESCRIPTION:
URL:https://stthomas.ac.in/event/department-of-physics-webinar/
ATTACH;FMTTYPE=image/jpeg:https://stthomas.ac.in/wp-content/uploads/2022/03/IMG-20220328-WA0002.jpg
END:VEVENT
BEGIN:VEVENT
DTSTART;TZID=UTC:20220329T143000
DTEND;TZID=UTC:20220330T160000
DTSTAMP:20260420T043134
CREATED:20220328T142003Z
LAST-MODIFIED:20220328T183249Z
UID:25644-1648564200-1648656000@stthomas.ac.in
SUMMARY:INTERNATIONAL VIRTUAL CONFERENCE ON ADVANCES IN FINANCIAL MARKETS AND SERVICES
DESCRIPTION:https://stthomas.ac.in/wp-content/uploads/2022/03/Fincon-2022-Programme.pdf
URL:https://stthomas.ac.in/event/international-virtual-conference-on-advances-in-financial-markets-and-services/
ATTACH;FMTTYPE=image/jpeg:https://stthomas.ac.in/wp-content/uploads/2022/03/fin22.jpg
END:VEVENT
BEGIN:VEVENT
DTSTART;TZID=UTC:20220330T093000
DTEND;TZID=UTC:20220330T113000
DTSTAMP:20260420T043134
CREATED:20220328T184250Z
LAST-MODIFIED:20220328T184250Z
UID:25655-1648632600-1648639800@stthomas.ac.in
SUMMARY:Introductory Workshop on Astronomy
DESCRIPTION:
URL:https://stthomas.ac.in/event/introductory-workshop-on-astronomy/
ATTACH;FMTTYPE=image/jpeg:https://stthomas.ac.in/wp-content/uploads/2022/03/IMG-20220328-WA0003.jpg
END:VEVENT
BEGIN:VEVENT
DTSTART;TZID=UTC:20220330T120000
DTEND;TZID=UTC:20220330T133000
DTSTAMP:20260420T043134
CREATED:20220328T183757Z
LAST-MODIFIED:20220328T183757Z
UID:25649-1648641600-1648647000@stthomas.ac.in
SUMMARY:Currer Bell: An Enigmatic and Versatile Victorian Author.
DESCRIPTION:
URL:https://stthomas.ac.in/event/currer-bell-an-enigmatic-and-versatile-victorian-author/
ATTACH;FMTTYPE=image/png:https://stthomas.ac.in/wp-content/uploads/2022/03/png_20220328_151654_0000.png
END:VEVENT
END:VCALENDAR