BEGIN:VCALENDAR
VERSION:2.0
PRODID:-//St Thomas College (Autonomous) - ECPv6.1.3//NONSGML v1.0//EN
CALSCALE:GREGORIAN
METHOD:PUBLISH
X-WR-CALNAME:St Thomas College (Autonomous)
X-ORIGINAL-URL:https://stthomas.ac.in
X-WR-CALDESC:Events for St Thomas College (Autonomous)
REFRESH-INTERVAL;VALUE=DURATION:PT1H
X-Robots-Tag:noindex
X-PUBLISHED-TTL:PT1H
BEGIN:VTIMEZONE
TZID:Asia/Kolkata
BEGIN:STANDARD
TZOFFSETFROM:+0530
TZOFFSETTO:+0530
TZNAME:IST
DTSTART:20220101T000000
END:STANDARD
TZID:UTC
BEGIN:STANDARD
TZOFFSETFROM:+0000
TZOFFSETTO:+0000
TZNAME:UTC
DTSTART:20220101T000000
END:STANDARD
END:VTIMEZONE
BEGIN:VEVENT
DTSTART;TZID=Asia/Kolkata:20220210T113000
DTEND;TZID=Asia/Kolkata:20220210T170000
DTSTAMP:20260420T024502
CREATED:20220208T150051Z
LAST-MODIFIED:20220208T150131Z
UID:24938-1644492600-1644512400@stthomas.ac.in
SUMMARY:Truths and Post Truths: International Lecture Series
DESCRIPTION:
URL:https://stthomas.ac.in/event/truths-and-post-truths/
ATTACH;FMTTYPE=image/jpeg:https://stthomas.ac.in/wp-content/uploads/2022/02/WhatsApp-Image-2022-02-06-at-1.58.37-PM.jpeg
END:VEVENT
BEGIN:VEVENT
DTSTART;TZID=UTC:20220216T080000
DTEND;TZID=UTC:20220216T170000
DTSTAMP:20260420T024502
CREATED:20220216T044344Z
LAST-MODIFIED:20220216T044344Z
UID:24984-1644998400-1645030800@stthomas.ac.in
SUMMARY:PROFESSIONAL CARREER OPPORTUNITIES IN COMMERCE
DESCRIPTION:
URL:https://stthomas.ac.in/event/professional-carreer-opportunities-in-commerce/
ATTACH;FMTTYPE=image/jpeg:https://stthomas.ac.in/wp-content/uploads/2022/02/WhatsApp-Image-2022-02-15-at-8.22.31-AM-1.jpeg
END:VEVENT
BEGIN:VEVENT
DTSTART;TZID=Asia/Kolkata:20220218T080000
DTEND;TZID=Asia/Kolkata:20220219T170000
DTSTAMP:20260420T024502
CREATED:20220108T100113Z
LAST-MODIFIED:20220219T074041Z
UID:24150-1645171200-1645290000@stthomas.ac.in
SUMMARY:National Seminar on Interdisciplinary Research Approaches & Research Scholars Meet 2022
DESCRIPTION:Dear All\,\nResearch Council\, St.Thomas College (Autonomous)\, Thrissur is organizing a NATIONAL SEMINAR ON \n“Interdisciplinary Research Approaches ” & Research Scholar’s Meet 2022 \nDate : 18th &19th February 2022\nTime : 9 AM \nProgramme Schedule \nParticipation Link (Science) \nParticipation Link (Arts\, Commerce & Humanities) \nInvited Guests include: \n \nPresidential Address.\nHis Excellency Mar Tony Neelankavil\, Manager & Auxiliary Bishop of Thrissur \nInauguration :\nProf. Sabu Thomas\, Hon’ble Vice Chancellor of Mahathma Gandhi University\, Kottayam. \nKeynote Address.\nProf. P G Sankaran\, Pro-Vice Chancellor\, CUSAT \n\nResource Persons: \n  \n\nDr. Ruby John Anto\nDivision of Cancer Research\, RGCB\, Trivandrum \nhttps://youtu.be/w2jkxaGk264 \nDr. Pradyuman P P\nDepartment of Physics\, University of Calicut. \nhttps://youtu.be/ReeoPkVBbZY \nDr. Aravind Kumar Rengan\nDepartment of Biomedical Engineering\, IIT\, Hyderabad. \n\nDr. P Bhaskaran Nair\nProfessor(Rtd)\, Pondichery Central University \n\nDr. Priya K Nair\nDepartment of English\, St. Theresa’s College\, Ernakulam. \n\nDr. Vinod V M\nAssistant Librarian\, University of Calicut. \nSESSION 1 \n\nSESSION 2 \n\nAll Heads of the Research Centres\, Research Guides and Research Scholars are invited. Registration for the seminar can be done using the following link provided:\nhttps://rb.gy/g5cuaq \nDr.Martin K A\nPrincipal-in-Charge\nDr. Chacko V M\nDean of Research\nCo-ordinators:\nDr. Ann Mary K A (8921497571)\nDr. Viju M J (9446760383)
URL:https://stthomas.ac.in/event/national-seminar-on-interdisciplinary-research-approaches-research-scholars-meet-2022/
ATTACH;FMTTYPE=image/jpeg:https://stthomas.ac.in/wp-content/uploads/2022/01/NSIRARSM2022-3-2.jpg
END:VEVENT
BEGIN:VEVENT
DTSTART;TZID=UTC:20220224T141500
DTEND;TZID=UTC:20220224T160000
DTSTAMP:20260420T024502
CREATED:20220223T091221Z
LAST-MODIFIED:20220407T054252Z
UID:25142-1645712100-1645718400@stthomas.ac.in
SUMMARY:NATIONAL SEMINAR ON "BIOMEDICAL HARDWARE IMPLEMENTATION"
DESCRIPTION:Dear All\,\nDepartment of Electronics\, St.Thomas College (Autonomous)\, Thrissur in association with IIC\, IEDC & IQAC is organizing a NATIONAL SEMINAR ON “BIOMEDICAL HARDWARE IMPLEMENTATION” \nDate : 24th FEBRUARY 2022\nTime : 2.15 PM \nInauguration:\nRev. Fr. Biju John Panengadan\n[Executive Manager\, St.Thomas College( Autonomous)\,\nThrissur] \nResource Person:\nDr. Godwinraj D\nAssociate Professor\,\nECE ​Department \,\nAmal Jyothi Engg College\, Kanjirappilly. \nRegistration is compulsory for awarding E-certificate for attendees.\nYou can register the webinar by the following link provided:\nhttps://forms.gle/Z4SAdm2n4b7SG5st5 \nYouTube live 🔗 Link \n\nConvenor:\nMr.Jinesh Paul C (9947325362)\nCo-ordinator:\nMrs. Anjaly Markose\n(8848789644) \nWith Regards\,\nDepartment of Electronics\nSt.Thomas College (Autonomous)\, Thrissur
URL:https://stthomas.ac.in/event/national-seminar-on-biomedical-hardware-implementation/
ATTACH;FMTTYPE=image/png:https://stthomas.ac.in/wp-content/uploads/2022/02/brochure-webinar2022-e1645608723421.png
END:VEVENT
BEGIN:VEVENT
DTSTART;TZID=UTC:20220224T183000
DTEND;TZID=UTC:20220225T203000
DTSTAMP:20260420T024502
CREATED:20220222T121852Z
LAST-MODIFIED:20220223T120329Z
UID:25107-1645727400-1645821000@stthomas.ac.in
SUMMARY:Webinar on Research Methodology\, 24-25 February 2022\, 6.45 pm to 8 pm.
DESCRIPTION:https://meet.google.com/okk-oomu-esk \n \nDear Sir/Madam\,\nDepartment of Statistics\, St.Thomas College(Autonomous)\, organizes a National Webinar on Research Methodology with special reference to Social Science and Medical Science during 24-25 February 2022\, 6.45 pm to 8.00pm\, Evening.\nRegistration Form : https://rb.gy/ffzzky\nLink for the programme are\n1) https://meet.google.com/okk-oomu-esk.\n2) https://meet.google.com/cdz-btep-uaf\n3) https://meet.google.com/okk-oomu-esk  \nYou can enter in any of the links above. All are invited.\nContact for further details:\nDr.Sajesh T A (Coordinator)\nDr Jeena Joseph (Jt Coordinator)\nMr Rasin R S(Jt Coordinator)\nDr V M Chacko\, Head of the Dept.\nDr Martin K A\, Principal-in Charge\nSt.Thomas College(Autonomous)\, Thrissur
URL:https://stthomas.ac.in/event/webinar-on-research-methodology-24-25-february-2022-6-45-pm-to-8-pm/
ATTACH;FMTTYPE=image/jpeg:https://stthomas.ac.in/wp-content/uploads/2022/02/WhatsApp-Image-2022-02-23-at-12.25.03-AM.jpeg
END:VEVENT
BEGIN:VEVENT
DTSTART;TZID=UTC:20220225T100000
DTEND;TZID=UTC:20220225T170000
DTSTAMP:20260420T024502
CREATED:20220221T153330Z
LAST-MODIFIED:20220221T153702Z
UID:25085-1645783200-1645808400@stthomas.ac.in
SUMMARY:Resonating Wonder: Shakespeare in Indian and Global Avatars
DESCRIPTION:To register: \nhttps://docs.google.com/forms/d/e/1FAIpQLScr7bWaL49fWpGKEz-j5946NCMuPHvRQxLlzdaxGqFocx9Oxw/viewform
URL:https://stthomas.ac.in/event/resonating-wonder-shakespeare-in-indian-and-global-avatars/
ATTACH;FMTTYPE=image/jpeg:https://stthomas.ac.in/wp-content/uploads/2022/02/IMG_20220220_112025.jpg
END:VEVENT
BEGIN:VEVENT
DTSTART;TZID=UTC:20220228T080000
DTEND;TZID=UTC:20220304T170000
DTSTAMP:20260420T024502
CREATED:20220225T154017Z
LAST-MODIFIED:20220227T104936Z
UID:25259-1646035200-1646413200@stthomas.ac.in
SUMMARY:FINE ARTS FESTIVAL - MIZHIV 2022
DESCRIPTION:General guidelines: \n📍One team captain and one team manager should be chosen by each department. \n📍Every participant should register through https://ams.stthomas.ac.in/arts_application/\nBefore 8.00 PM \, 27 February 2022 \n📍Before 11:30 a.m. on Monday\, submit a list of applicants to the fine arts office\, along with the department seal\, and signatures of department captain and team manager. \n📍Names and admission numbers should be mentioned in the list of applicants. \n📍There is no limit for participation in off stage events for each departments . \n📍A person can compete in up to four on-stage (single) activities. \n📍Only two teams from each department are allowed to compete in the debate competition (one team each for malayalam and English debate). \n📍Individual participation in group events is unrestricted. \n📍Any complaints regarding events should be informed through respective team manager.\nWith regards\nFine Arts Cell\, St Thomas college
URL:https://stthomas.ac.in/event/fine-arts-festival-mizhiv-2022/
ATTACH;FMTTYPE=image/jpeg:https://stthomas.ac.in/wp-content/uploads/2022/02/mizhiv-2022.jpeg
END:VEVENT
END:VCALENDAR