BEGIN:VCALENDAR
VERSION:2.0
PRODID:-//St Thomas College (Autonomous) - ECPv6.1.3//NONSGML v1.0//EN
CALSCALE:GREGORIAN
METHOD:PUBLISH
X-ORIGINAL-URL:https://stthomas.ac.in
X-WR-CALDESC:Events for St Thomas College (Autonomous)
REFRESH-INTERVAL;VALUE=DURATION:PT1H
X-Robots-Tag:noindex
X-PUBLISHED-TTL:PT1H
BEGIN:VTIMEZONE
TZID:Asia/Kolkata
BEGIN:STANDARD
TZOFFSETFROM:+0530
TZOFFSETTO:+0530
TZNAME:IST
DTSTART:20220101T000000
END:STANDARD
END:VTIMEZONE
BEGIN:VEVENT
DTSTART;TZID=Asia/Kolkata:20220105T080000
DTEND;TZID=Asia/Kolkata:20220105T170000
DTSTAMP:20260420T011228
CREATED:20211101T112459Z
LAST-MODIFIED:20220103T122814Z
UID:20751-1641369600-1641402000@stthomas.ac.in
SUMMARY:New Library  Inauguration
DESCRIPTION:Dear Staff\, Inauguration of the renovated & centralized Library will be on 05/01/22 Wednesday in a limited manner due to the Covid Protocol. Details will be given tomorrow👍
URL:https://stthomas.ac.in/event/library-inauguration/
ATTACH;FMTTYPE=image/jpeg:https://stthomas.ac.in/wp-content/uploads/2021/11/WhatsApp-Image-2021-11-01-at-4.08.10-AM.jpeg
END:VEVENT
BEGIN:VEVENT
DTSTART;TZID=Asia/Kolkata:20220111T080000
DTEND;TZID=Asia/Kolkata:20220112T170000
DTSTAMP:20260420T011228
CREATED:20220111T072536Z
LAST-MODIFIED:20220111T072925Z
UID:24199-1641888000-1642006800@stthomas.ac.in
SUMMARY:NAAC Criteria Workshop
DESCRIPTION:There will be a workshop for all Vice-principals\, Deans\, HoDs and Criteria Coordinators regarding various criteria of NAAC
URL:https://stthomas.ac.in/event/naac-workshop/
ATTACH;FMTTYPE=image/jpeg:https://stthomas.ac.in/wp-content/uploads/2022/01/WhatsApp-Image-2022-01-10-at-11.19.33-PM.jpeg
END:VEVENT
BEGIN:VEVENT
DTSTART;TZID=Asia/Kolkata:20220114T080000
DTEND;TZID=Asia/Kolkata:20220114T170000
DTSTAMP:20260420T011228
CREATED:20211210T074209Z
LAST-MODIFIED:20211210T074434Z
UID:23268-1642147200-1642179600@stthomas.ac.in
SUMMARY:International Hindi Day
DESCRIPTION:International Hindi Day Will be 14th January 2022
URL:https://stthomas.ac.in/event/international-hindi-day/
ATTACH;FMTTYPE=image/jpeg:https://stthomas.ac.in/wp-content/uploads/2021/12/hindi.jpg
END:VEVENT
BEGIN:VEVENT
DTSTART;TZID=Asia/Kolkata:20220120T080000
DTEND;TZID=Asia/Kolkata:20220131T170000
DTSTAMP:20260420T011228
CREATED:20220119T190339Z
LAST-MODIFIED:20220120T190817Z
UID:24458-1642665600-1643648400@stthomas.ac.in
SUMMARY:Grand Inauguration German A1-2022
DESCRIPTION:
URL:https://stthomas.ac.in/event/grand-inauguration-german-a1-2022/
ATTACH;FMTTYPE=image/jpeg:https://stthomas.ac.in/wp-content/uploads/2022/01/IMG-20220120-WA0007.jpg
END:VEVENT
BEGIN:VEVENT
DTSTART;TZID=Asia/Kolkata:20220128T140000
DTEND;TZID=Asia/Kolkata:20220128T170000
DTSTAMP:20260420T011228
CREATED:20220123T052348Z
LAST-MODIFIED:20220123T052348Z
UID:24486-1643378400-1643389200@stthomas.ac.in
SUMMARY:Food and Nutrition Session
DESCRIPTION:👨‍🍳Chef’s👨‍🍳 Corner\, Cookery Club of St. Thomas College\, (Autonomous)\, Thrissur proudly presents a Food and Nutrition Session on 28th January 2022\,at 2.00pm. for all the staffs n students of our college. \nOnline Session link will be provided later. \nThanks and Regards\nCookery Club Coordinators
URL:https://stthomas.ac.in/event/food-and-nutrition-session/
ATTACH;FMTTYPE=image/jpeg:https://stthomas.ac.in/wp-content/uploads/2022/01/WhatsApp-Image-2022-01-22-at-9.14.47-PM.jpeg
END:VEVENT
BEGIN:VEVENT
DTSTART;TZID=Asia/Kolkata:20220129T143000
DTEND;TZID=Asia/Kolkata:20220129T170000
DTSTAMP:20260420T011228
CREATED:20220129T065454Z
LAST-MODIFIED:20220129T065517Z
UID:24695-1643466600-1643475600@stthomas.ac.in
SUMMARY:TURNITIN-Ithenticate (Plagiarism Check Software): Training\, 29.01.2022\, Online
DESCRIPTION:Dear Heads of Research Centres\, Research Guides & Scholars\nTURNITIN-Ithenticate (Plagiarism Check Software): User accounts have been created on ithenticate software and the login credentials have been sent to the emails of teachers\, research scholars and postgraduate students. They can login to their respective accounts at https://app.ithenticate.com/en_us/login using those credentials. \nAn awareness session on iThenticate software for checking plagiarism will be conducted online at 2.30 pm on 29.01.2022. The resource person of the session is Sri Sanjo Jose\, Librarian of the College. The session will be live casted at https://www.youtube.com/watch?v=3V5CNiPPaXk\nYou are invited. You are requested to participate. Dr V M Chacko\, Dean of Research\, STC
URL:https://stthomas.ac.in/event/turnitin-ithenticate-plagiarism-check-software-training-29-01-2022-online/
ATTACH;FMTTYPE=image/jpeg:https://stthomas.ac.in/wp-content/uploads/2022/01/ithen-.jpg
END:VEVENT
END:VCALENDAR