BEGIN:VCALENDAR
VERSION:2.0
PRODID:-//St Thomas College (Autonomous) - ECPv6.1.3//NONSGML v1.0//EN
CALSCALE:GREGORIAN
METHOD:PUBLISH
X-ORIGINAL-URL:https://stthomas.ac.in
X-WR-CALDESC:Events for St Thomas College (Autonomous)
REFRESH-INTERVAL;VALUE=DURATION:PT1H
X-Robots-Tag:noindex
X-PUBLISHED-TTL:PT1H
BEGIN:VTIMEZONE
TZID:Asia/Kolkata
BEGIN:STANDARD
TZOFFSETFROM:+0530
TZOFFSETTO:+0530
TZNAME:IST
DTSTART:20210101T000000
END:STANDARD
END:VTIMEZONE
BEGIN:VEVENT
DTSTART;TZID=Asia/Kolkata:20210806T080000
DTEND;TZID=Asia/Kolkata:20211031T170000
DTSTAMP:20260419T185804
CREATED:20210401T131625Z
LAST-MODIFIED:20211009T131317Z
UID:12327-1628236800-1635699600@stthomas.ac.in
SUMMARY:PG Admission 2021
DESCRIPTION:Admissions
URL:https://stthomas.ac.in/event/pg-and-ph-d-programmes/
ATTACH;FMTTYPE=image/jpeg:https://stthomas.ac.in/wp-content/uploads/2021/04/IMG_20210401_184354.jpg
END:VEVENT
BEGIN:VEVENT
DTSTART;TZID=Asia/Kolkata:20211001T080000
DTEND;TZID=Asia/Kolkata:20211001T170000
DTSTAMP:20260419T185804
CREATED:20211001T032703Z
LAST-MODIFIED:20211001T032703Z
UID:20086-1633075200-1633107600@stthomas.ac.in
SUMMARY:Clean India: 1 October to 31 October 2021
DESCRIPTION:
URL:https://stthomas.ac.in/event/clean-india-1-october-to-31-october-2021/
ATTACH;FMTTYPE=image/jpeg:https://stthomas.ac.in/wp-content/uploads/2021/10/WhatsApp-Image-2021-09-30-at-20.18.44.jpeg
END:VEVENT
BEGIN:VEVENT
DTSTART;TZID=Asia/Kolkata:20211001T080000
DTEND;TZID=Asia/Kolkata:20211008T170000
DTSTAMP:20260419T185804
CREATED:20211005T094652Z
LAST-MODIFIED:20211005T095500Z
UID:20150-1633075200-1633712400@stthomas.ac.in
SUMMARY:TRASH IT THRISSUR
DESCRIPTION:
URL:https://stthomas.ac.in/event/trash-it-thrissur-3/
ATTACH;FMTTYPE=image/jpeg:https://stthomas.ac.in/wp-content/uploads/2021/10/Trash-it.jpg
END:VEVENT
BEGIN:VEVENT
DTSTART;TZID=Asia/Kolkata:20211002T080000
DTEND;TZID=Asia/Kolkata:20211008T170000
DTSTAMP:20260419T185804
CREATED:20211005T191120Z
LAST-MODIFIED:20211005T191120Z
UID:20185-1633161600-1633712400@stthomas.ac.in
SUMMARY:NCC: Wildlife Week Celebrations
DESCRIPTION:
URL:https://stthomas.ac.in/event/ncc-wildlife-week-celebrations/
ATTACH;FMTTYPE=image/jpeg:https://stthomas.ac.in/wp-content/uploads/2021/10/IMG-20211004-WA0036.jpg
END:VEVENT
BEGIN:VEVENT
DTSTART;TZID=Asia/Kolkata:20211002T100000
DTEND;TZID=Asia/Kolkata:20211002T120000
DTSTAMP:20260419T185804
CREATED:20210930T191044Z
LAST-MODIFIED:20210930T191044Z
UID:20082-1633168800-1633176000@stthomas.ac.in
SUMMARY:Department of Hindi: Webinar
DESCRIPTION:
URL:https://stthomas.ac.in/event/department-of-hindi-webinar/
ATTACH;FMTTYPE=image/jpeg:https://stthomas.ac.in/wp-content/uploads/2021/10/IMG-20210930-WA0027.jpg
END:VEVENT
BEGIN:VEVENT
DTSTART;TZID=Asia/Kolkata:20211002T153000
DTEND;TZID=Asia/Kolkata:20211002T170000
DTSTAMP:20260419T185804
CREATED:20211001T131552Z
LAST-MODIFIED:20211002T040517Z
UID:20096-1633188600-1633194000@stthomas.ac.in
SUMMARY:Webinar on 'Swatchhta & Gandhi Jayanthi'
DESCRIPTION:Dear Faculty Members\, staff and students\, As we are celebrating Gandhi Jayanthi on 02 October\, SES REC Cell of St.Thomas College(Autonomous)\, Thrissur for Ministry of Education\, Govt. of India\, is hosting a Webinar about the concept ‘Swatchhta & Gandhi Jayanthi’ on 02 October 2021. The Resource persons are Dr.Joby Paul\, Assistant Professor\, St.Thomas College\, Thrissur and Mr. M Peethambaran Master\, Chairman\, Sarvodaya Darshan. The celebrations will be held online through google meet. The link is https://meet.google.com/egb-tfmh-odt All faculty members\, staff and students are invited.\nDr. Martin K A\, Principal\nDr.V.M.Chacko\, SES REC Cell
URL:https://stthomas.ac.in/event/webinar-on-swatchhta-gandhi-jayanthi/
ATTACH;FMTTYPE=image/jpeg:https://stthomas.ac.in/wp-content/uploads/2021/10/SWATCHHTA-1.jpg
END:VEVENT
BEGIN:VEVENT
DTSTART;TZID=Asia/Kolkata:20211004T080000
DTEND;TZID=Asia/Kolkata:20211006T170000
DTSTAMP:20260419T185804
CREATED:20211005T185716Z
LAST-MODIFIED:20211005T185716Z
UID:20161-1633334400-1633539600@stthomas.ac.in
SUMMARY:Santhome Initiation 2021
DESCRIPTION:
URL:https://stthomas.ac.in/event/santhome-initiation-2021/
ATTACH;FMTTYPE=image/jpeg:https://stthomas.ac.in/wp-content/uploads/2021/10/IMG-20211002-WA0005.jpg
END:VEVENT
BEGIN:VEVENT
DTSTART;TZID=Asia/Kolkata:20211005T080000
DTEND;TZID=Asia/Kolkata:20211006T170000
DTSTAMP:20260419T185804
CREATED:20211005T190130Z
LAST-MODIFIED:20211005T190130Z
UID:20170-1633420800-1633539600@stthomas.ac.in
SUMMARY:Placement Training Program 2021
DESCRIPTION:
URL:https://stthomas.ac.in/event/placement-training-program-2021/
ATTACH;FMTTYPE=image/jpeg:https://stthomas.ac.in/wp-content/uploads/2021/10/IMG-20211004-WA0048.jpg
END:VEVENT
BEGIN:VEVENT
DTSTART;TZID=Asia/Kolkata:20211005T143000
DTEND;TZID=Asia/Kolkata:20211005T170000
DTSTAMP:20260419T185804
CREATED:20210930T102848Z
LAST-MODIFIED:20210930T120243Z
UID:20053-1633444200-1633453200@stthomas.ac.in
SUMMARY:National Webinar: Research Department of English
DESCRIPTION:
URL:https://stthomas.ac.in/event/national-webinar-research-department-of-english/
ATTACH;FMTTYPE=image/jpeg:https://stthomas.ac.in/wp-content/uploads/2021/09/IMG_20210930_154942.jpg
END:VEVENT
BEGIN:VEVENT
DTSTART;TZID=Asia/Kolkata:20211009T080000
DTEND;TZID=Asia/Kolkata:20211025T170000
DTSTAMP:20260419T185804
CREATED:20211009T132113Z
LAST-MODIFIED:20211025T185111Z
UID:20303-1633766400-1635181200@stthomas.ac.in
SUMMARY:UG ADMISSION 2021
DESCRIPTION:Admissions
URL:https://stthomas.ac.in/event/ug-admission-2021/
ATTACH;FMTTYPE=image/jpeg:https://stthomas.ac.in/wp-content/uploads/2021/10/UG-.jpg
END:VEVENT
BEGIN:VEVENT
DTSTART;TZID=Asia/Kolkata:20211012T140000
DTEND;TZID=Asia/Kolkata:20211012T170000
DTSTAMP:20260419T185804
CREATED:20211012T011454Z
LAST-MODIFIED:20211012T011454Z
UID:20407-1634047200-1634058000@stthomas.ac.in
SUMMARY:PAN INDIA AWARENESS & OUTREACH PROGRAMME
DESCRIPTION:
URL:https://stthomas.ac.in/event/pan-india-awareness-outreach-programme/
ATTACH;FMTTYPE=image/jpeg:https://stthomas.ac.in/wp-content/uploads/2021/10/WhatsApp-Image-2021-10-11-at-21.53.37.jpeg
END:VEVENT
BEGIN:VEVENT
DTSTART;TZID=Asia/Kolkata:20211014T080000
DTEND;TZID=Asia/Kolkata:20211016T170000
DTSTAMP:20260419T185804
CREATED:20210810T115001Z
LAST-MODIFIED:20211017T061218Z
UID:17228-1634198400-1634403600@stthomas.ac.in
SUMMARY:RESEARCH AND PUBLICATION ETHICS 2021
DESCRIPTION:Research and Publication Ethics (RPE) course is an online course for the researchers.  Course content\, credits etc. are all as prescribed in the UGC guidelines. The course will commence from 8th September 2021. All interested researchers are welcome. \nMore details regarding the RPE course: \nhttps://stthomas.ac.in/research-and-publication-ethics-2021/ \nRegistration link: \nhttps://docs.google.com/forms/d/e/1FAIpQLSclSKKwYPOsgHJKJhLj3RVvA9ZkFlPU1WQGpQrooWA6edDm_g/viewform \nInauguration: 10.09.2021\, 10.30am \nLink: https://rb.gy/zwg1e8 \nChief Guests  \nMar Tony Neelankavil\, Auxiliarybishop Thrissur & Manager\, St.Thomas College (Autonomous)\, Thrissur \nDr. M Nasser\, Pro-Vice Chancellor\, University of Calicut \nRev. Fr. Biju Panengadan\, Executive Manager \nDr. Joby Thomas K\, Academic Administrative Officer\, Amala Institute of Medical Sciences\, Thrissur \nOrganizing Committee \nDr. Baby Shari P A\, Director of Research \nUniversity of Calicut\, Kerala \nRev. Dr. Martin K A\, Principal-in-Charge\, STC \nDr. V. M. Chacko\, Dean of Research\, STC \nMr. Sanjo Jose\, Librarian & Coordinator\, STC \nDr. Joyce Jose\, Joint Coordinator\, STC \n  \nhttps://stthomas.ac.in/research-and-publication-ethics-2021/ \n 
URL:https://stthomas.ac.in/event/research-and-publication-ethics-2021/
ATTACH;FMTTYPE=image/jpeg:https://stthomas.ac.in/wp-content/uploads/2021/08/Copy-of-Business-Event-Conference-Advert-Made-with-PosterMyWall-3.jpg
END:VEVENT
BEGIN:VEVENT
DTSTART;TZID=Asia/Kolkata:20211022T143000
DTEND;TZID=Asia/Kolkata:20211022T170000
DTSTAMP:20260419T185804
CREATED:20211013T100203Z
LAST-MODIFIED:20211017T063022Z
UID:20441-1634913000-1634922000@stthomas.ac.in
SUMMARY:Webinar on Statistical Computing using SPSS
DESCRIPTION:Dear Faculty Members\, Researchers and students\, The department of Statistics\, St.Thomas College(Autonomous)\, Thrissur is conducting a Webinar on Statistical Computing using SPSS on 22.10.2021\, 2.30pm. All faculty members\, researchers and students are invited. Dr.V.M.Chacko(Head of the Department)\, Ashlin Mathew P M(Coordinator)\, Department of Statistics\, St.Thomas College(Autonomous)\, Thrissur
URL:https://stthomas.ac.in/event/webinar-on-statistical-computing-using-spss/
ATTACH;FMTTYPE=image/jpeg:https://stthomas.ac.in/wp-content/uploads/2021/10/spss1.jpg
END:VEVENT
BEGIN:VEVENT
DTSTART;TZID=Asia/Kolkata:20211031T080000
DTEND;TZID=Asia/Kolkata:20211031T170000
DTSTAMP:20260419T185804
CREATED:20211025T184740Z
LAST-MODIFIED:20211025T184740Z
UID:20680-1635667200-1635699600@stthomas.ac.in
SUMMARY:National Unity Day: NCC
DESCRIPTION:
URL:https://stthomas.ac.in/event/national-unity-day-ncc/
ATTACH;FMTTYPE=image/jpeg:https://stthomas.ac.in/wp-content/uploads/2021/10/IMG-20211026-WA0002.jpg
END:VEVENT
END:VCALENDAR