BEGIN:VCALENDAR
VERSION:2.0
PRODID:-//St Thomas College (Autonomous) - ECPv6.1.3//NONSGML v1.0//EN
CALSCALE:GREGORIAN
METHOD:PUBLISH
X-WR-CALNAME:St Thomas College (Autonomous)
X-ORIGINAL-URL:https://stthomas.ac.in
X-WR-CALDESC:Events for St Thomas College (Autonomous)
REFRESH-INTERVAL;VALUE=DURATION:PT1H
X-Robots-Tag:noindex
X-PUBLISHED-TTL:PT1H
BEGIN:VTIMEZONE
TZID:Asia/Kolkata
BEGIN:STANDARD
TZOFFSETFROM:+0530
TZOFFSETTO:+0530
TZNAME:IST
DTSTART:20240101T000000
END:STANDARD
END:VTIMEZONE
BEGIN:VEVENT
DTSTART;TZID=Asia/Kolkata:20240301T080000
DTEND;TZID=Asia/Kolkata:20240302T170000
DTSTAMP:20260426T000602
CREATED:20240203T001721Z
LAST-MODIFIED:20240229T025926Z
UID:34039-1709280000-1709398800@stthomas.ac.in
SUMMARY:Golden Jubilee Celebrations of Research @ St. Thomas & Two-Day National Conference on ‘Research-Catalyst for National Development’\, 1st & 2nd March 2024
DESCRIPTION:Dear Research Guides & Research Scholars\,\nGreetings!!!\nI am very glad to inform you that Prof (Dr.) K. N. Madhusoodanan\, Vice-Chancellor(Former)\, CUSAT shall be inaugurating the Golden Jubilee Celebrations of Research @ St. Thomas & Two-Day National Conference on ‘Research-Catalyst for National Development’ scheduled to be held on 1st  & 2nd  March 2024.\n\nHope that you will be coming for the conference. All the research scholars(Full time and part time) and research guides(From the College and other Colleges) are expected to join in the memorable event.\n\nDuty certificate shall be given on request.\n\nGolden Jubilee Souvenir has already been published. The soft copy will be given on the Conference days.\nPlease remember to register to get Certificate\, Conference Kit\, Food Coupons etc.\n\nRegistration Link: https://docs.google.com/forms/d/e/1FAIpQLScFMhPxKx54vK8EhNSNk0irjrF6Zf4Per0FwrVD1yhK1EtFrA/viewform\n(2024) Golden Jubilee of Research\nTemplate for paper n the proceedings
URL:https://stthomas.ac.in/event/golden-jubilee-celebrations-of-research-st-thomas-two-day-national-conference-on-research-catalyst-for-national-development-1st-2nd-march-2024/
ATTACH;FMTTYPE=image/jpeg:https://stthomas.ac.in/wp-content/uploads/2024/02/2024-rcnd._page-0001.jpg
END:VEVENT
END:VCALENDAR