BEGIN:VCALENDAR
VERSION:2.0
PRODID:-//St Thomas College (Autonomous) - ECPv6.1.3//NONSGML v1.0//EN
CALSCALE:GREGORIAN
METHOD:PUBLISH
X-ORIGINAL-URL:https://stthomas.ac.in
X-WR-CALDESC:Events for St Thomas College (Autonomous)
REFRESH-INTERVAL;VALUE=DURATION:PT1H
X-Robots-Tag:noindex
X-PUBLISHED-TTL:PT1H
BEGIN:VTIMEZONE
TZID:Asia/Kolkata
BEGIN:STANDARD
TZOFFSETFROM:+0530
TZOFFSETTO:+0530
TZNAME:IST
DTSTART:20230101T000000
END:STANDARD
END:VTIMEZONE
BEGIN:VEVENT
DTSTART;TZID=Asia/Kolkata:20231204T080000
DTEND;TZID=Asia/Kolkata:20231204T170000
DTSTAMP:20260424T143139
CREATED:20231204T040842Z
LAST-MODIFIED:20231204T040842Z
UID:33348-1701676800-1701709200@stthomas.ac.in
SUMMARY:Poet@Live
DESCRIPTION:
URL:https://stthomas.ac.in/event/poetlive/
ATTACH;FMTTYPE=image/jpeg:https://stthomas.ac.in/wp-content/uploads/2023/12/WhatsApp-Image-2023-12-03-at-6.06.13-PM-1.jpeg
END:VEVENT
END:VCALENDAR