BEGIN:VCALENDAR
VERSION:2.0
PRODID:-//St Thomas College (Autonomous) - ECPv6.1.3//NONSGML v1.0//EN
CALSCALE:GREGORIAN
METHOD:PUBLISH
X-ORIGINAL-URL:https://stthomas.ac.in
X-WR-CALDESC:Events for St Thomas College (Autonomous)
REFRESH-INTERVAL;VALUE=DURATION:PT1H
X-Robots-Tag:noindex
X-PUBLISHED-TTL:PT1H
BEGIN:VTIMEZONE
TZID:Asia/Kolkata
BEGIN:STANDARD
TZOFFSETFROM:+0530
TZOFFSETTO:+0530
TZNAME:IST
DTSTART:20230101T000000
END:STANDARD
END:VTIMEZONE
BEGIN:VEVENT
DTSTART;TZID=Asia/Kolkata:20231120T080000
DTEND;TZID=Asia/Kolkata:20231120T170000
DTSTAMP:20260424T044718
CREATED:20231120T100816Z
LAST-MODIFIED:20231120T100816Z
UID:33106-1700467200-1700499600@stthomas.ac.in
SUMMARY:Reception to Ancy Sojan\, Silver Medalist\, Long Jump @ Asian Games 2023
DESCRIPTION:Reception to Ancy Sojan\, Silver Medalist\, Long Jump @ Asian Games 2023 \nWednesday\, 22.11.2023\, 11.30 AM\nMSGR.JOHN PALOCAREN SQUARE
URL:https://stthomas.ac.in/event/reception-to-ancy-sojan-silver-medalist-long-jump-asian-games-2023/
ATTACH;FMTTYPE=image/jpeg:https://stthomas.ac.in/wp-content/uploads/2023/11/WhatsApp-Image-2023-11-20-at-1.17.54-PM.jpeg
END:VEVENT
END:VCALENDAR