BEGIN:VCALENDAR
VERSION:2.0
PRODID:-//St Thomas College (Autonomous) - ECPv6.1.3//NONSGML v1.0//EN
CALSCALE:GREGORIAN
METHOD:PUBLISH
X-WR-CALNAME:St Thomas College (Autonomous)
X-ORIGINAL-URL:https://stthomas.ac.in
X-WR-CALDESC:Events for St Thomas College (Autonomous)
REFRESH-INTERVAL;VALUE=DURATION:PT1H
X-Robots-Tag:noindex
X-PUBLISHED-TTL:PT1H
BEGIN:VTIMEZONE
TZID:Asia/Kolkata
BEGIN:STANDARD
TZOFFSETFROM:+0530
TZOFFSETTO:+0530
TZNAME:IST
DTSTART:20230101T000000
END:STANDARD
END:VTIMEZONE
BEGIN:VEVENT
DTSTART;TZID=Asia/Kolkata:20231006T130000
DTEND;TZID=Asia/Kolkata:20231006T160000
DTSTAMP:20260423T234926
CREATED:20231006T060300Z
LAST-MODIFIED:20231006T060529Z
UID:32688-1696597200-1696608000@stthomas.ac.in
SUMMARY:FDP Outcome Based Education
DESCRIPTION:“Mapping Excellence: Outcome-Based Education and Four Year Undergraduate Programme Syllabus Design” 6th \,9th & 10th October 2023\, Faculty Orientation Programme
URL:https://stthomas.ac.in/event/mapping-excellence-outcome-based-education-and-four-year-undergraduate-programme-syllabus-design-6th-9th-10th-october-2023-faculty-orientation-programme/
CATEGORIES:IQAC
ATTACH;FMTTYPE=image/jpeg:https://stthomas.ac.in/wp-content/uploads/2023/10/WhatsApp-Image-2023-10-05-at-11.02.09-AM.jpeg
END:VEVENT
END:VCALENDAR