BEGIN:VCALENDAR
VERSION:2.0
PRODID:-//St Thomas College (Autonomous) - ECPv6.1.3//NONSGML v1.0//EN
CALSCALE:GREGORIAN
METHOD:PUBLISH
X-ORIGINAL-URL:https://stthomas.ac.in
X-WR-CALDESC:Events for St Thomas College (Autonomous)
REFRESH-INTERVAL;VALUE=DURATION:PT1H
X-Robots-Tag:noindex
X-PUBLISHED-TTL:PT1H
BEGIN:VTIMEZONE
TZID:Asia/Kolkata
BEGIN:STANDARD
TZOFFSETFROM:+0530
TZOFFSETTO:+0530
TZNAME:IST
DTSTART:20230101T000000
END:STANDARD
END:VTIMEZONE
BEGIN:VEVENT
DTSTART;TZID=Asia/Kolkata:20230420T080000
DTEND;TZID=Asia/Kolkata:20230430T170000
DTSTAMP:20260421T062702
CREATED:20230420T095232Z
LAST-MODIFIED:20230429T094009Z
UID:31145-1681977600-1682874000@stthomas.ac.in
SUMMARY:ADMISSION TO MEDIA STUDIES PROGRAMMES
DESCRIPTION:
URL:https://stthomas.ac.in/event/admission-to-media-studies-programmes/
ATTACH;FMTTYPE=image/jpeg:https://stthomas.ac.in/wp-content/uploads/2023/04/WhatsApp-Image-2023-04-19-at-6.33.01-PM.jpeg
END:VEVENT
BEGIN:VEVENT
DTSTART;TZID=Asia/Kolkata:20230421T080000
DTEND;TZID=Asia/Kolkata:20230430T170000
DTSTAMP:20260421T062702
CREATED:20230421T123520Z
LAST-MODIFIED:20230421T125456Z
UID:31155-1682064000-1682874000@stthomas.ac.in
SUMMARY:ADMISSION 2023-2023
DESCRIPTION:Admissions
URL:https://stthomas.ac.in/event/admission-2023-2023/
ATTACH;FMTTYPE=image/jpeg:https://stthomas.ac.in/wp-content/uploads/2023/04/admn-2.jpg
END:VEVENT
END:VCALENDAR