BEGIN:VCALENDAR
VERSION:2.0
PRODID:-//St Thomas College (Autonomous) - ECPv6.1.3//NONSGML v1.0//EN
CALSCALE:GREGORIAN
METHOD:PUBLISH
X-WR-CALNAME:St Thomas College (Autonomous)
X-ORIGINAL-URL:https://stthomas.ac.in
X-WR-CALDESC:Events for St Thomas College (Autonomous)
REFRESH-INTERVAL;VALUE=DURATION:PT1H
X-Robots-Tag:noindex
X-PUBLISHED-TTL:PT1H
BEGIN:VTIMEZONE
TZID:UTC
BEGIN:STANDARD
TZOFFSETFROM:+0000
TZOFFSETTO:+0000
TZNAME:UTC
DTSTART:20220101T000000
END:STANDARD
END:VTIMEZONE
BEGIN:VEVENT
DTSTART;TZID=UTC:20220829T080000
DTEND;TZID=UTC:20220910T170000
DTSTAMP:20260420T144751
CREATED:20220828T120748Z
LAST-MODIFIED:20220828T120748Z
UID:28411-1661760000-1662829200@stthomas.ac.in
SUMMARY:Hands on Training for Electronic Product Design
DESCRIPTION:ഹാൻഡ്‌സ് ഓൺ ട്രെയ്‌നിങ് \nതൃശ്ശൂർ -സെന്റ് തോമാസ് കോളേജിലെ\nഇൻസ്റ്റിറ്റ്യൂഷൻ ഇന്നവേഷൻ കൗൺസിൽ\, ഐ.ഇ.ഡി.സി.\, ഫിസിക്സ് ഡിപ്പാർട്ട്മെന്റ്\, ഇലക്ട്രോണിക്സ് ഡിപ്പാർട്ട്മെന്റ് എന്നിവയുടെ സംയുക്താഭിമുഖ്യത്തിൽ ഇലക്ട്രോണിക്സ് ഉപകരണങ്ങൾ ഉണ്ടാക്കാൻ പരിശീലനം നൽകുന്ന ഹാൻഡ്‌സ് ഓൺ ട്രെയ്‌നിങ് പരിപാടി സംഘടിപ്പിക്കുന്നു. വിദ്യാർത്ഥികളുടെ ഇലക്ട്രോണിക്സ് അഭിരുചി വർദ്ധിപ്പിക്കാൻ ഉദ്ദേശിട്ടുള്ള ഈ ട്രെയിനിങ് പരിപാടിയിൽ നമ്മുടെ കോളേജിലെ ആർക്കും പങ്കെടുക്കാവുന്നതാണ്. റഗുലർ ക്ലാസ്സ് ടൈമിനു ശേഷം എല്ലാ ദിവസവും 3 മണി മുതൽ 4 മണി വരെ നടത്തുന്ന ട്രെയിനിങ് പ്രോഗ്രാമിൽ ചെറിയ LED പ്രോഡക്ടസ് മുതൽ ആഡ്രിനോ ബോർഡ് ഉപയോഗിച്ചുള്ള റോബോട്ടുകൾ വരെ\, സ്വയം ഉണ്ടാക്കുന്നതിനു സഹായകരമായ പരിശീലനമാണ് ആസൂത്രണം ചെയ്തിരിക്കുന്നത്. \nഈ ട്രെയിനിങ് പോഗ്രാമിൽ പങ്കെടുക്കാൻ താൽപര്യമുള്ളവർ താഴെ നൽകിയിട്ടുള്ള ഗൂഗിൾ ഫോം പൂരിപ്പിച്ചു രജിസ്ട്രേഷൻ നിർവഹിക്കേണ്ടതാണ്. \nhttp://bit.ly/stcproductdesign \nകൂടുതൽ വിവരങ്ങൾക്ക്\nഡോ.ജോൺസ് നടുവത്ത്\n9833454299
URL:https://stthomas.ac.in/event/hands-on-training-for-electronic-product-design/
ATTACH;FMTTYPE=image/jpeg:https://stthomas.ac.in/wp-content/uploads/2022/08/WhatsApp-Image-2022-08-28-at-17.06.17.jpeg
END:VEVENT
BEGIN:VEVENT
DTSTART;TZID=UTC:20220831T080000
DTEND;TZID=UTC:20220905T170000
DTSTAMP:20260420T144751
CREATED:20220831T115750Z
LAST-MODIFIED:20220831T115750Z
UID:28456-1661932800-1662397200@stthomas.ac.in
SUMMARY:Novus 2022
DESCRIPTION:All set for Onam? Next\, grab your smartphones and capture the vibes of your College Onam celebrations for a chance to win fantastic cash prizes. \nTake part in the photography contest as part of Novus 2022\, “Innovate.Connect.Inspire\,” organised by the Department of Data science\, St. Thomas College (Autonomous)\, Thrissur.
URL:https://stthomas.ac.in/event/novus-2022/
ATTACH;FMTTYPE=image/jpeg:https://stthomas.ac.in/wp-content/uploads/2022/08/WhatsApp-Image-2022-08-31-at-05.56.29.jpeg
END:VEVENT
BEGIN:VEVENT
DTSTART;TZID=UTC:20220903T080000
DTEND;TZID=UTC:20220903T170000
DTSTAMP:20260420T144751
CREATED:20220902T164823Z
LAST-MODIFIED:20220902T164914Z
UID:28476-1662192000-1662224400@stthomas.ac.in
SUMMARY:WEBINAR: GURUVANDHANAM\, 03.09.2022
DESCRIPTION:
URL:https://stthomas.ac.in/event/webinar-guruvandhanam-03-09-2022/
ATTACH;FMTTYPE=image/jpeg:https://stthomas.ac.in/wp-content/uploads/2022/09/Webinar_page-0001.jpg
END:VEVENT
END:VCALENDAR