BEGIN:VCALENDAR
VERSION:2.0
PRODID:-//St Thomas College (Autonomous) - ECPv6.1.3//NONSGML v1.0//EN
CALSCALE:GREGORIAN
METHOD:PUBLISH
X-ORIGINAL-URL:https://stthomas.ac.in
X-WR-CALDESC:Events for St Thomas College (Autonomous)
REFRESH-INTERVAL;VALUE=DURATION:PT1H
X-Robots-Tag:noindex
X-PUBLISHED-TTL:PT1H
BEGIN:VTIMEZONE
TZID:UTC
BEGIN:STANDARD
TZOFFSETFROM:+0000
TZOFFSETTO:+0000
TZNAME:UTC
DTSTART:20220101T000000
END:STANDARD
END:VTIMEZONE
BEGIN:VEVENT
DTSTART;TZID=UTC:20220611T080000
DTEND;TZID=UTC:20220731T170000
DTSTAMP:20260420T125222
CREATED:20220611T085817Z
LAST-MODIFIED:20220728T152443Z
UID:26941-1654934400-1659286800@stthomas.ac.in
SUMMARY:UG Admission
DESCRIPTION:APPLY ONLINE\n\n 
URL:https://stthomas.ac.in/event/ug-admission/
ATTACH;FMTTYPE=image/jpeg:https://stthomas.ac.in/wp-content/uploads/2022/06/WhatsApp-Image-2022-07-23-at-16.15.23.jpeg
END:VEVENT
BEGIN:VEVENT
DTSTART;TZID=UTC:20220620T080000
DTEND;TZID=UTC:20220731T170000
DTSTAMP:20260420T125222
CREATED:20220620T074448Z
LAST-MODIFIED:20220728T152355Z
UID:27261-1655712000-1659286800@stthomas.ac.in
SUMMARY:PG Admission 2022
DESCRIPTION:https://stthomas.ac.in/admission-pg/
URL:https://stthomas.ac.in/event/pg-admission-2022/
ATTACH;FMTTYPE=image/jpeg:https://stthomas.ac.in/wp-content/uploads/2022/06/WhatsApp-Image-2022-06-18-at-9.49.53-AM-1.jpeg
END:VEVENT
END:VCALENDAR