BEGIN:VCALENDAR
VERSION:2.0
PRODID:-//St Thomas College (Autonomous) - ECPv6.1.3//NONSGML v1.0//EN
CALSCALE:GREGORIAN
METHOD:PUBLISH
X-WR-CALNAME:St Thomas College (Autonomous)
X-ORIGINAL-URL:https://stthomas.ac.in
X-WR-CALDESC:Events for St Thomas College (Autonomous)
REFRESH-INTERVAL;VALUE=DURATION:PT1H
X-Robots-Tag:noindex
X-PUBLISHED-TTL:PT1H
BEGIN:VTIMEZONE
TZID:UTC
BEGIN:STANDARD
TZOFFSETFROM:+0000
TZOFFSETTO:+0000
TZNAME:UTC
DTSTART:20220101T000000
END:STANDARD
END:VTIMEZONE
BEGIN:VEVENT
DTSTART;TZID=UTC:20220324T080000
DTEND;TZID=UTC:20220325T170000
DTSTAMP:20260420T061655
CREATED:20220322T040718Z
LAST-MODIFIED:20220322T040742Z
UID:25608-1648108800-1648227600@stthomas.ac.in
SUMMARY:Workshop on “Functional Materials”  Date : 24th & 25th March 2022 Time : 9.30 AM
DESCRIPTION:Dear All\,\nDepartment of Physics\, St.Thomas College (Autonomous)\, Thrissur is organizing a WORKSHOP ON “ *Functional Materials ” \nDate : 24th & 25th March 2022\nTime : 9.30 AM \nKindly register through the link \nhttps://forms.gle/2tctWPgb7Pmjad7C6 \nWith Regards\,\nDepartment of Physics\,\nSt.Thomas College (Autonomous)\, Thrissur
URL:https://stthomas.ac.in/event/workshop-on-functional-materials-date-24th-25th-march-2022-time-9-30-am/
ATTACH;FMTTYPE=image/jpeg:https://stthomas.ac.in/wp-content/uploads/2022/03/WhatsApp-Image-2022-03-21-at-5.44.47-AM.jpeg
END:VEVENT
END:VCALENDAR