BEGIN:VCALENDAR
VERSION:2.0
PRODID:-//St Thomas College (Autonomous) - ECPv6.1.3//NONSGML v1.0//EN
CALSCALE:GREGORIAN
METHOD:PUBLISH
X-ORIGINAL-URL:https://stthomas.ac.in
X-WR-CALDESC:Events for St Thomas College (Autonomous)
REFRESH-INTERVAL;VALUE=DURATION:PT1H
X-Robots-Tag:noindex
X-PUBLISHED-TTL:PT1H
BEGIN:VTIMEZONE
TZID:Asia/Kolkata
BEGIN:STANDARD
TZOFFSETFROM:+0530
TZOFFSETTO:+0530
TZNAME:IST
DTSTART:20220101T000000
END:STANDARD
END:VTIMEZONE
BEGIN:VEVENT
DTSTART;TZID=Asia/Kolkata:20220114T080000
DTEND;TZID=Asia/Kolkata:20220114T170000
DTSTAMP:20260420T024532
CREATED:20211210T074209Z
LAST-MODIFIED:20211210T074434Z
UID:23268-1642147200-1642179600@stthomas.ac.in
SUMMARY:International Hindi Day
DESCRIPTION:International Hindi Day Will be 14th January 2022
URL:https://stthomas.ac.in/event/international-hindi-day/
ATTACH;FMTTYPE=image/jpeg:https://stthomas.ac.in/wp-content/uploads/2021/12/hindi.jpg
END:VEVENT
END:VCALENDAR