BEGIN:VCALENDAR
VERSION:2.0
PRODID:-//St Thomas College (Autonomous) - ECPv6.1.3//NONSGML v1.0//EN
CALSCALE:GREGORIAN
METHOD:PUBLISH
X-ORIGINAL-URL:https://stthomas.ac.in
X-WR-CALDESC:Events for St Thomas College (Autonomous)
REFRESH-INTERVAL;VALUE=DURATION:PT1H
X-Robots-Tag:noindex
X-PUBLISHED-TTL:PT1H
BEGIN:VTIMEZONE
TZID:Asia/Kolkata
BEGIN:STANDARD
TZOFFSETFROM:+0530
TZOFFSETTO:+0530
TZNAME:IST
DTSTART:20220101T000000
END:STANDARD
END:VTIMEZONE
BEGIN:VEVENT
DTSTART;TZID=Asia/Kolkata:20220105T080000
DTEND;TZID=Asia/Kolkata:20220105T170000
DTSTAMP:20260420T024532
CREATED:20211101T112459Z
LAST-MODIFIED:20220103T122814Z
UID:20751-1641369600-1641402000@stthomas.ac.in
SUMMARY:New Library  Inauguration
DESCRIPTION:Dear Staff\, Inauguration of the renovated & centralized Library will be on 05/01/22 Wednesday in a limited manner due to the Covid Protocol. Details will be given tomorrow👍
URL:https://stthomas.ac.in/event/library-inauguration/
ATTACH;FMTTYPE=image/jpeg:https://stthomas.ac.in/wp-content/uploads/2021/11/WhatsApp-Image-2021-11-01-at-4.08.10-AM.jpeg
END:VEVENT
END:VCALENDAR