BEGIN:VCALENDAR
VERSION:2.0
PRODID:-//St Thomas College (Autonomous) - ECPv6.1.3//NONSGML v1.0//EN
CALSCALE:GREGORIAN
METHOD:PUBLISH
X-ORIGINAL-URL:https://stthomas.ac.in
X-WR-CALDESC:Events for St Thomas College (Autonomous)
REFRESH-INTERVAL;VALUE=DURATION:PT1H
X-Robots-Tag:noindex
X-PUBLISHED-TTL:PT1H
BEGIN:VTIMEZONE
TZID:Asia/Kolkata
BEGIN:STANDARD
TZOFFSETFROM:+0530
TZOFFSETTO:+0530
TZNAME:IST
DTSTART:20210101T000000
END:STANDARD
END:VTIMEZONE
BEGIN:VEVENT
DTSTART;TZID=Asia/Kolkata:20211127T080000
DTEND;TZID=Asia/Kolkata:20211230T170000
DTSTAMP:20260420T010853
CREATED:20211102T074614Z
LAST-MODIFIED:20211204T101031Z
UID:20761-1638000000-1640883600@stthomas.ac.in
SUMMARY:Add on Courses
DESCRIPTION:College offers Add on courses. Registration Link \nhttps://forms.gle/5u32FU3F9YyuroN66
URL:https://stthomas.ac.in/event/add-on-courses/
ATTACH;FMTTYPE=image/jpeg:https://stthomas.ac.in/wp-content/uploads/2021/11/add.jpg
END:VEVENT
BEGIN:VEVENT
DTSTART;TZID=Asia/Kolkata:20211207T070000
DTEND;TZID=Asia/Kolkata:20211211T213000
DTSTAMP:20260420T010853
CREATED:20211204T142615Z
LAST-MODIFIED:20211204T142615Z
UID:22974-1638860400-1639258200@stthomas.ac.in
SUMMARY:Webinar on Cinema at International Film Festivals
DESCRIPTION:
URL:https://stthomas.ac.in/event/webinar-on-cinema-at-international-film-festivals/
ATTACH;FMTTYPE=image/png:https://stthomas.ac.in/wp-content/uploads/2021/12/filmfest-final-01.png
END:VEVENT
END:VCALENDAR