BEGIN:VCALENDAR
VERSION:2.0
PRODID:-//St Thomas College (Autonomous) - ECPv6.1.3//NONSGML v1.0//EN
CALSCALE:GREGORIAN
METHOD:PUBLISH
X-ORIGINAL-URL:https://stthomas.ac.in
X-WR-CALDESC:Events for St Thomas College (Autonomous)
REFRESH-INTERVAL;VALUE=DURATION:PT1H
X-Robots-Tag:noindex
X-PUBLISHED-TTL:PT1H
BEGIN:VTIMEZONE
TZID:Asia/Kolkata
BEGIN:STANDARD
TZOFFSETFROM:+0530
TZOFFSETTO:+0530
TZNAME:IST
DTSTART:20210101T000000
END:STANDARD
END:VTIMEZONE
BEGIN:VEVENT
DTSTART;TZID=Asia/Kolkata:20211101T190000
DTEND;TZID=Asia/Kolkata:20211101T230000
DTSTAMP:20260419T202956
CREATED:20211024T031205Z
LAST-MODIFIED:20211024T031800Z
UID:20664-1635793200-1635807600@stthomas.ac.in
SUMMARY:Global Alumni Meet 2021
DESCRIPTION:Dear All\, \nThe Global OSA Meeting of St.Thomas Colleg(Autonomous)\, Thrissur will be held on 2021 November 1\, Time 7 PM. You are invited. Registration Form is https://stthomas.ac.in/global-osa-meet/ Kindly attend and Join with St.Thomas Family.
URL:https://stthomas.ac.in/event/global-alumni-meet-2021/
ATTACH;FMTTYPE=image/jpeg:https://stthomas.ac.in/wp-content/uploads/2021/10/gam2021.jpg
END:VEVENT
END:VCALENDAR