BEGIN:VCALENDAR
VERSION:2.0
PRODID:-//St Thomas College (Autonomous) - ECPv6.1.3//NONSGML v1.0//EN
CALSCALE:GREGORIAN
METHOD:PUBLISH
X-WR-CALNAME:St Thomas College (Autonomous)
X-ORIGINAL-URL:https://stthomas.ac.in
X-WR-CALDESC:Events for St Thomas College (Autonomous)
REFRESH-INTERVAL;VALUE=DURATION:PT1H
X-Robots-Tag:noindex
X-PUBLISHED-TTL:PT1H
BEGIN:VTIMEZONE
TZID:Asia/Kolkata
BEGIN:STANDARD
TZOFFSETFROM:+0530
TZOFFSETTO:+0530
TZNAME:IST
DTSTART:20210101T000000
END:STANDARD
END:VTIMEZONE
BEGIN:VEVENT
DTSTART;TZID=Asia/Kolkata:20210806T080000
DTEND;TZID=Asia/Kolkata:20211031T170000
DTSTAMP:20260419T220631
CREATED:20210401T131625Z
LAST-MODIFIED:20211009T131317Z
UID:12327-1628236800-1635699600@stthomas.ac.in
SUMMARY:PG Admission 2021
DESCRIPTION:Admissions
URL:https://stthomas.ac.in/event/pg-and-ph-d-programmes/
ATTACH;FMTTYPE=image/jpeg:https://stthomas.ac.in/wp-content/uploads/2021/04/IMG_20210401_184354.jpg
END:VEVENT
BEGIN:VEVENT
DTSTART;TZID=Asia/Kolkata:20211009T080000
DTEND;TZID=Asia/Kolkata:20211025T170000
DTSTAMP:20260419T220631
CREATED:20211009T132113Z
LAST-MODIFIED:20211025T185111Z
UID:20303-1633766400-1635181200@stthomas.ac.in
SUMMARY:UG ADMISSION 2021
DESCRIPTION:Admissions
URL:https://stthomas.ac.in/event/ug-admission-2021/
ATTACH;FMTTYPE=image/jpeg:https://stthomas.ac.in/wp-content/uploads/2021/10/UG-.jpg
END:VEVENT
BEGIN:VEVENT
DTSTART;TZID=Asia/Kolkata:20211022T143000
DTEND;TZID=Asia/Kolkata:20211022T170000
DTSTAMP:20260419T220631
CREATED:20211013T100203Z
LAST-MODIFIED:20211017T063022Z
UID:20441-1634913000-1634922000@stthomas.ac.in
SUMMARY:Webinar on Statistical Computing using SPSS
DESCRIPTION:Dear Faculty Members\, Researchers and students\, The department of Statistics\, St.Thomas College(Autonomous)\, Thrissur is conducting a Webinar on Statistical Computing using SPSS on 22.10.2021\, 2.30pm. All faculty members\, researchers and students are invited. Dr.V.M.Chacko(Head of the Department)\, Ashlin Mathew P M(Coordinator)\, Department of Statistics\, St.Thomas College(Autonomous)\, Thrissur
URL:https://stthomas.ac.in/event/webinar-on-statistical-computing-using-spss/
ATTACH;FMTTYPE=image/jpeg:https://stthomas.ac.in/wp-content/uploads/2021/10/spss1.jpg
END:VEVENT
END:VCALENDAR