BEGIN:VCALENDAR
VERSION:2.0
PRODID:-//St Thomas College (Autonomous) - ECPv6.1.3//NONSGML v1.0//EN
CALSCALE:GREGORIAN
METHOD:PUBLISH
X-ORIGINAL-URL:https://stthomas.ac.in
X-WR-CALDESC:Events for St Thomas College (Autonomous)
REFRESH-INTERVAL;VALUE=DURATION:PT1H
X-Robots-Tag:noindex
X-PUBLISHED-TTL:PT1H
BEGIN:VTIMEZONE
TZID:Asia/Kolkata
BEGIN:STANDARD
TZOFFSETFROM:+0530
TZOFFSETTO:+0530
TZNAME:IST
DTSTART:20210101T000000
END:STANDARD
END:VTIMEZONE
BEGIN:VEVENT
DTSTART;TZID=Asia/Kolkata:20210806T080000
DTEND;TZID=Asia/Kolkata:20211031T170000
DTSTAMP:20260419T184917
CREATED:20210401T131625Z
LAST-MODIFIED:20211009T131317Z
UID:12327-1628236800-1635699600@stthomas.ac.in
SUMMARY:PG Admission 2021
DESCRIPTION:Admissions
URL:https://stthomas.ac.in/event/pg-and-ph-d-programmes/
ATTACH;FMTTYPE=image/jpeg:https://stthomas.ac.in/wp-content/uploads/2021/04/IMG_20210401_184354.jpg
END:VEVENT
BEGIN:VEVENT
DTSTART;TZID=Asia/Kolkata:20210923T170000
DTEND;TZID=Asia/Kolkata:20210924T180000
DTSTAMP:20260419T184917
CREATED:20210923T113945Z
LAST-MODIFIED:20210923T115721Z
UID:19844-1632416400-1632506400@stthomas.ac.in
SUMMARY:STC Free Covid Vaccination Drive: 24/09/2021.
DESCRIPTION:*STC Free Vaccination Drive 24-09-2021* \n  \nA vaccination drive (Covishield first dose and Covaxin second dose) is being arranged exclusively for the students and staff of St. Thomas College (Autonomous)\, Thrissur\, on 24 September\, 2021\, Friday\, in preparation of the physical classes to be commenced in the college shortly. \n  \n** Vaccination will be free of cost. Interested students are requested to register in the link given below: \n  \nThe selected students will be intimated through their whatapp number about the time and slot of the vaccination. \n  \n** Priorty is given to final year students. \n  \n* Kindly note – Slots for *Covishield first dose* and *Covaxin second dose* is only available. \n  \nDr. Fr. Martin KA \nPrincipal https://forms.gle/U5dd9U1cz6Q8DJCd9
URL:https://stthomas.ac.in/event/stc-free-covid-vaccination-drive-24-09-2021/
ATTACH;FMTTYPE=image/jpeg:https://stthomas.ac.in/wp-content/uploads/2021/09/IMG-20210923-WA0014.jpg
END:VEVENT
BEGIN:VEVENT
DTSTART;TZID=Asia/Kolkata:20210924T080000
DTEND;TZID=Asia/Kolkata:20210924T170000
DTSTAMP:20260419T184917
CREATED:20210921T052915Z
LAST-MODIFIED:20210921T052915Z
UID:19638-1632470400-1632502800@stthomas.ac.in
SUMMARY:CLEANING DRIVE
DESCRIPTION:  \n  \n24.09.2021
URL:https://stthomas.ac.in/event/cleaning-drive/
ATTACH;FMTTYPE=image/jpeg:https://stthomas.ac.in/wp-content/uploads/2021/09/NSSDAY.jpg
END:VEVENT
BEGIN:VEVENT
DTSTART;TZID=Asia/Kolkata:20210924T080000
DTEND;TZID=Asia/Kolkata:20210924T170000
DTSTAMP:20260419T184917
CREATED:20210924T024746Z
LAST-MODIFIED:20210924T024746Z
UID:19861-1632470400-1632502800@stthomas.ac.in
SUMMARY:NSS DAY
DESCRIPTION:
URL:https://stthomas.ac.in/event/nss-day/
ATTACH;FMTTYPE=image/jpeg:https://stthomas.ac.in/wp-content/uploads/2021/09/WhatsApp-Image-2021-09-23-at-18.44.39.jpeg
END:VEVENT
BEGIN:VEVENT
DTSTART;TZID=Asia/Kolkata:20210924T080000
DTEND;TZID=Asia/Kolkata:20210924T170000
DTSTAMP:20260419T184917
CREATED:20210924T024901Z
LAST-MODIFIED:20210924T024901Z
UID:19870-1632470400-1632502800@stthomas.ac.in
SUMMARY:AGVENTURE
DESCRIPTION:
URL:https://stthomas.ac.in/event/agventure/
ATTACH;FMTTYPE=image/jpeg:https://stthomas.ac.in/wp-content/uploads/2021/09/WhatsApp-Image-2021-09-23-at-18.44.45.jpeg
END:VEVENT
BEGIN:VEVENT
DTSTART;TZID=Asia/Kolkata:20210924T080000
DTEND;TZID=Asia/Kolkata:20210924T210000
DTSTAMP:20260419T184917
CREATED:20210924T025003Z
LAST-MODIFIED:20210924T141640Z
UID:19873-1632470400-1632517200@stthomas.ac.in
SUMMARY:GALA 2K21
DESCRIPTION:
URL:https://stthomas.ac.in/event/gala-2k21/
ATTACH;FMTTYPE=image/jpeg:https://stthomas.ac.in/wp-content/uploads/2021/09/G.jpg
END:VEVENT
BEGIN:VEVENT
DTSTART;TZID=Asia/Kolkata:20210924T193000
DTEND;TZID=Asia/Kolkata:20210924T203000
DTSTAMP:20260419T184917
CREATED:20210924T015746Z
LAST-MODIFIED:20210924T024603Z
UID:19851-1632511800-1632515400@stthomas.ac.in
SUMMARY:TRASH IT THRISSUR
DESCRIPTION:Cleanliness is next to Godliness \nIn connection with NSS DAY St. Thomas College NSS units 42&144 planned to clean the Thekkinkadu Maidan area\nWe find everything when we are spring cleaning \n    \n  \n 
URL:https://stthomas.ac.in/event/trash-it-thrissur/
ATTACH;FMTTYPE=image/jpeg:https://stthomas.ac.in/wp-content/uploads/2021/09/t.jpg
END:VEVENT
END:VCALENDAR